BEGIN:VCALENDAR
VERSION:2.0
PRODID:-//Sonoma Splash - ECPv6.15.20//NONSGML v1.0//EN
CALSCALE:GREGORIAN
METHOD:PUBLISH
X-WR-CALNAME:Sonoma Splash
X-ORIGINAL-URL:https://sonomasplash.org
X-WR-CALDESC:Events for Sonoma Splash
REFRESH-INTERVAL;VALUE=DURATION:PT1H
X-Robots-Tag:noindex
X-PUBLISHED-TTL:PT1H
BEGIN:VTIMEZONE
TZID:America/Los_Angeles
BEGIN:DAYLIGHT
TZOFFSETFROM:-0800
TZOFFSETTO:-0700
TZNAME:PDT
DTSTART:20250309T100000
END:DAYLIGHT
BEGIN:STANDARD
TZOFFSETFROM:-0700
TZOFFSETTO:-0800
TZNAME:PST
DTSTART:20251102T090000
END:STANDARD
BEGIN:DAYLIGHT
TZOFFSETFROM:-0800
TZOFFSETTO:-0700
TZNAME:PDT
DTSTART:20260308T100000
END:DAYLIGHT
BEGIN:STANDARD
TZOFFSETFROM:-0700
TZOFFSETTO:-0800
TZNAME:PST
DTSTART:20261101T090000
END:STANDARD
BEGIN:DAYLIGHT
TZOFFSETFROM:-0800
TZOFFSETTO:-0700
TZNAME:PDT
DTSTART:20270314T100000
END:DAYLIGHT
BEGIN:STANDARD
TZOFFSETFROM:-0700
TZOFFSETTO:-0800
TZNAME:PST
DTSTART:20271107T090000
END:STANDARD
END:VTIMEZONE
BEGIN:VEVENT
DTSTART;TZID=America/Los_Angeles:20260423T160000
DTEND;TZID=America/Los_Angeles:20260423T171500
DTSTAMP:20260423T065605
CREATED:20260206T190033Z
LAST-MODIFIED:20260414T182547Z
UID:10032127-1776960000-1776964500@sonomasplash.org
SUMMARY:SVHS Swim Practice Lanes 1-5
DESCRIPTION:
URL:https://sonomasplash.org/event/svhs-swim-practice-lanes-1-5/2026-04-23/
CATEGORIES:Competition Pool
ATTACH;FMTTYPE=image/png:https://sonomasplash.org/wp-content/uploads/2025/03/image005.png
END:VEVENT
BEGIN:VEVENT
DTSTART;TZID=America/Los_Angeles:20260427T160000
DTEND;TZID=America/Los_Angeles:20260427T171500
DTSTAMP:20260423T065605
CREATED:20260206T190033Z
LAST-MODIFIED:20260414T182547Z
UID:10032128-1777305600-1777310100@sonomasplash.org
SUMMARY:SVHS Swim Practice Lanes 1-5
DESCRIPTION:
URL:https://sonomasplash.org/event/svhs-swim-practice-lanes-1-5/2026-04-27/
CATEGORIES:Competition Pool
ATTACH;FMTTYPE=image/png:https://sonomasplash.org/wp-content/uploads/2025/03/image005.png
END:VEVENT
BEGIN:VEVENT
DTSTART;TZID=America/Los_Angeles:20260428T160000
DTEND;TZID=America/Los_Angeles:20260428T171500
DTSTAMP:20260423T065605
CREATED:20260206T190033Z
LAST-MODIFIED:20260414T182547Z
UID:10032129-1777392000-1777396500@sonomasplash.org
SUMMARY:SVHS Swim Practice Lanes 1-5
DESCRIPTION:
URL:https://sonomasplash.org/event/svhs-swim-practice-lanes-1-5/2026-04-28/
CATEGORIES:Competition Pool
ATTACH;FMTTYPE=image/png:https://sonomasplash.org/wp-content/uploads/2025/03/image005.png
END:VEVENT
BEGIN:VEVENT
DTSTART;TZID=America/Los_Angeles:20260430T160000
DTEND;TZID=America/Los_Angeles:20260430T171500
DTSTAMP:20260423T065605
CREATED:20260206T190033Z
LAST-MODIFIED:20260414T182547Z
UID:10032130-1777564800-1777569300@sonomasplash.org
SUMMARY:SVHS Swim Practice Lanes 1-5
DESCRIPTION:
URL:https://sonomasplash.org/event/svhs-swim-practice-lanes-1-5/2026-04-30/
CATEGORIES:Competition Pool
ATTACH;FMTTYPE=image/png:https://sonomasplash.org/wp-content/uploads/2025/03/image005.png
END:VEVENT
BEGIN:VEVENT
DTSTART;TZID=America/Los_Angeles:20260504T160000
DTEND;TZID=America/Los_Angeles:20260504T171500
DTSTAMP:20260423T065605
CREATED:20260206T190033Z
LAST-MODIFIED:20260414T182547Z
UID:10032131-1777910400-1777914900@sonomasplash.org
SUMMARY:SVHS Swim Practice Lanes 1-5
DESCRIPTION:
URL:https://sonomasplash.org/event/svhs-swim-practice-lanes-1-5/2026-05-04/
CATEGORIES:Competition Pool
ATTACH;FMTTYPE=image/png:https://sonomasplash.org/wp-content/uploads/2025/03/image005.png
END:VEVENT
BEGIN:VEVENT
DTSTART;TZID=America/Los_Angeles:20260505T160000
DTEND;TZID=America/Los_Angeles:20260505T171500
DTSTAMP:20260423T065605
CREATED:20260206T190033Z
LAST-MODIFIED:20260414T182547Z
UID:10032132-1777996800-1778001300@sonomasplash.org
SUMMARY:SVHS Swim Practice Lanes 1-5
DESCRIPTION:
URL:https://sonomasplash.org/event/svhs-swim-practice-lanes-1-5/2026-05-05/
CATEGORIES:Competition Pool
ATTACH;FMTTYPE=image/png:https://sonomasplash.org/wp-content/uploads/2025/03/image005.png
END:VEVENT
BEGIN:VEVENT
DTSTART;TZID=America/Los_Angeles:20260507T160000
DTEND;TZID=America/Los_Angeles:20260507T171500
DTSTAMP:20260423T065605
CREATED:20260206T190033Z
LAST-MODIFIED:20260414T182547Z
UID:10032133-1778169600-1778174100@sonomasplash.org
SUMMARY:SVHS Swim Practice Lanes 1-5
DESCRIPTION:
URL:https://sonomasplash.org/event/svhs-swim-practice-lanes-1-5/2026-05-07/
CATEGORIES:Competition Pool
ATTACH;FMTTYPE=image/png:https://sonomasplash.org/wp-content/uploads/2025/03/image005.png
END:VEVENT
BEGIN:VEVENT
DTSTART;TZID=America/Los_Angeles:20260511T160000
DTEND;TZID=America/Los_Angeles:20260511T171500
DTSTAMP:20260423T065605
CREATED:20260206T190033Z
LAST-MODIFIED:20260414T182547Z
UID:10032134-1778515200-1778519700@sonomasplash.org
SUMMARY:SVHS Swim Practice Lanes 1-5
DESCRIPTION:
URL:https://sonomasplash.org/event/svhs-swim-practice-lanes-1-5/2026-05-11/
CATEGORIES:Competition Pool
ATTACH;FMTTYPE=image/png:https://sonomasplash.org/wp-content/uploads/2025/03/image005.png
END:VEVENT
BEGIN:VEVENT
DTSTART;TZID=America/Los_Angeles:20260512T160000
DTEND;TZID=America/Los_Angeles:20260512T171500
DTSTAMP:20260423T065605
CREATED:20260206T190033Z
LAST-MODIFIED:20260414T182547Z
UID:10032135-1778601600-1778606100@sonomasplash.org
SUMMARY:SVHS Swim Practice Lanes 1-5
DESCRIPTION:
URL:https://sonomasplash.org/event/svhs-swim-practice-lanes-1-5/2026-05-12/
CATEGORIES:Competition Pool
ATTACH;FMTTYPE=image/png:https://sonomasplash.org/wp-content/uploads/2025/03/image005.png
END:VEVENT
BEGIN:VEVENT
DTSTART;TZID=America/Los_Angeles:20260514T160000
DTEND;TZID=America/Los_Angeles:20260514T171500
DTSTAMP:20260423T065605
CREATED:20260206T190033Z
LAST-MODIFIED:20260414T182547Z
UID:10032136-1778774400-1778778900@sonomasplash.org
SUMMARY:SVHS Swim Practice Lanes 1-5
DESCRIPTION:
URL:https://sonomasplash.org/event/svhs-swim-practice-lanes-1-5/2026-05-14/
CATEGORIES:Competition Pool
ATTACH;FMTTYPE=image/png:https://sonomasplash.org/wp-content/uploads/2025/03/image005.png
END:VEVENT
BEGIN:VEVENT
DTSTART;TZID=America/Los_Angeles:20260518T160000
DTEND;TZID=America/Los_Angeles:20260518T171500
DTSTAMP:20260423T065605
CREATED:20260206T190033Z
LAST-MODIFIED:20260414T182547Z
UID:10032137-1779120000-1779124500@sonomasplash.org
SUMMARY:SVHS Swim Practice Lanes 1-5
DESCRIPTION:
URL:https://sonomasplash.org/event/svhs-swim-practice-lanes-1-5/2026-05-18/
CATEGORIES:Competition Pool
ATTACH;FMTTYPE=image/png:https://sonomasplash.org/wp-content/uploads/2025/03/image005.png
END:VEVENT
BEGIN:VEVENT
DTSTART;TZID=America/Los_Angeles:20260519T160000
DTEND;TZID=America/Los_Angeles:20260519T171500
DTSTAMP:20260423T065605
CREATED:20260206T190033Z
LAST-MODIFIED:20260414T182547Z
UID:10032138-1779206400-1779210900@sonomasplash.org
SUMMARY:SVHS Swim Practice Lanes 1-5
DESCRIPTION:
URL:https://sonomasplash.org/event/svhs-swim-practice-lanes-1-5/2026-05-19/
CATEGORIES:Competition Pool
ATTACH;FMTTYPE=image/png:https://sonomasplash.org/wp-content/uploads/2025/03/image005.png
END:VEVENT
BEGIN:VEVENT
DTSTART;TZID=America/Los_Angeles:20260521T160000
DTEND;TZID=America/Los_Angeles:20260521T171500
DTSTAMP:20260423T065605
CREATED:20260206T190033Z
LAST-MODIFIED:20260414T182547Z
UID:10032139-1779379200-1779383700@sonomasplash.org
SUMMARY:SVHS Swim Practice Lanes 1-5
DESCRIPTION:
URL:https://sonomasplash.org/event/svhs-swim-practice-lanes-1-5/2026-05-21/
CATEGORIES:Competition Pool
ATTACH;FMTTYPE=image/png:https://sonomasplash.org/wp-content/uploads/2025/03/image005.png
END:VEVENT
BEGIN:VEVENT
DTSTART;TZID=America/Los_Angeles:20260525T160000
DTEND;TZID=America/Los_Angeles:20260525T171500
DTSTAMP:20260423T065605
CREATED:20260206T190033Z
LAST-MODIFIED:20260414T182547Z
UID:10032140-1779724800-1779729300@sonomasplash.org
SUMMARY:SVHS Swim Practice Lanes 1-5
DESCRIPTION:
URL:https://sonomasplash.org/event/svhs-swim-practice-lanes-1-5/2026-05-25/
CATEGORIES:Competition Pool
ATTACH;FMTTYPE=image/png:https://sonomasplash.org/wp-content/uploads/2025/03/image005.png
END:VEVENT
BEGIN:VEVENT
DTSTART;TZID=America/Los_Angeles:20260526T160000
DTEND;TZID=America/Los_Angeles:20260526T171500
DTSTAMP:20260423T065605
CREATED:20260206T190033Z
LAST-MODIFIED:20260414T182547Z
UID:10032141-1779811200-1779815700@sonomasplash.org
SUMMARY:SVHS Swim Practice Lanes 1-5
DESCRIPTION:
URL:https://sonomasplash.org/event/svhs-swim-practice-lanes-1-5/2026-05-26/
CATEGORIES:Competition Pool
ATTACH;FMTTYPE=image/png:https://sonomasplash.org/wp-content/uploads/2025/03/image005.png
END:VEVENT
BEGIN:VEVENT
DTSTART;TZID=America/Los_Angeles:20260528T160000
DTEND;TZID=America/Los_Angeles:20260528T171500
DTSTAMP:20260423T065605
CREATED:20260206T190033Z
LAST-MODIFIED:20260414T182547Z
UID:10032142-1779984000-1779988500@sonomasplash.org
SUMMARY:SVHS Swim Practice Lanes 1-5
DESCRIPTION:
URL:https://sonomasplash.org/event/svhs-swim-practice-lanes-1-5/2026-05-28/
CATEGORIES:Competition Pool
ATTACH;FMTTYPE=image/png:https://sonomasplash.org/wp-content/uploads/2025/03/image005.png
END:VEVENT
BEGIN:VEVENT
DTSTART;TZID=America/Los_Angeles:20260601T160000
DTEND;TZID=America/Los_Angeles:20260601T171500
DTSTAMP:20260423T065605
CREATED:20260206T190033Z
LAST-MODIFIED:20260414T182547Z
UID:10032143-1780329600-1780334100@sonomasplash.org
SUMMARY:SVHS Swim Practice Lanes 1-5
DESCRIPTION:
URL:https://sonomasplash.org/event/svhs-swim-practice-lanes-1-5/2026-06-01/
CATEGORIES:Competition Pool
ATTACH;FMTTYPE=image/png:https://sonomasplash.org/wp-content/uploads/2025/03/image005.png
END:VEVENT
BEGIN:VEVENT
DTSTART;TZID=America/Los_Angeles:20260602T160000
DTEND;TZID=America/Los_Angeles:20260602T171500
DTSTAMP:20260423T065605
CREATED:20260206T190033Z
LAST-MODIFIED:20260414T182547Z
UID:10032144-1780416000-1780420500@sonomasplash.org
SUMMARY:SVHS Swim Practice Lanes 1-5
DESCRIPTION:
URL:https://sonomasplash.org/event/svhs-swim-practice-lanes-1-5/2026-06-02/
CATEGORIES:Competition Pool
ATTACH;FMTTYPE=image/png:https://sonomasplash.org/wp-content/uploads/2025/03/image005.png
END:VEVENT
BEGIN:VEVENT
DTSTART;TZID=America/Los_Angeles:20260604T160000
DTEND;TZID=America/Los_Angeles:20260604T171500
DTSTAMP:20260423T065605
CREATED:20260206T190033Z
LAST-MODIFIED:20260414T182547Z
UID:10032145-1780588800-1780593300@sonomasplash.org
SUMMARY:SVHS Swim Practice Lanes 1-5
DESCRIPTION:
URL:https://sonomasplash.org/event/svhs-swim-practice-lanes-1-5/2026-06-04/
CATEGORIES:Competition Pool
ATTACH;FMTTYPE=image/png:https://sonomasplash.org/wp-content/uploads/2025/03/image005.png
END:VEVENT
BEGIN:VEVENT
DTSTART;TZID=America/Los_Angeles:20260608T160000
DTEND;TZID=America/Los_Angeles:20260608T171500
DTSTAMP:20260423T065605
CREATED:20260206T190033Z
LAST-MODIFIED:20260414T182547Z
UID:10032146-1780934400-1780938900@sonomasplash.org
SUMMARY:SVHS Swim Practice Lanes 1-5
DESCRIPTION:
URL:https://sonomasplash.org/event/svhs-swim-practice-lanes-1-5/2026-06-08/
CATEGORIES:Competition Pool
ATTACH;FMTTYPE=image/png:https://sonomasplash.org/wp-content/uploads/2025/03/image005.png
END:VEVENT
BEGIN:VEVENT
DTSTART;TZID=America/Los_Angeles:20260609T160000
DTEND;TZID=America/Los_Angeles:20260609T171500
DTSTAMP:20260423T065605
CREATED:20260206T190033Z
LAST-MODIFIED:20260414T182547Z
UID:10032147-1781020800-1781025300@sonomasplash.org
SUMMARY:SVHS Swim Practice Lanes 1-5
DESCRIPTION:
URL:https://sonomasplash.org/event/svhs-swim-practice-lanes-1-5/2026-06-09/
CATEGORIES:Competition Pool
ATTACH;FMTTYPE=image/png:https://sonomasplash.org/wp-content/uploads/2025/03/image005.png
END:VEVENT
BEGIN:VEVENT
DTSTART;TZID=America/Los_Angeles:20260611T160000
DTEND;TZID=America/Los_Angeles:20260611T171500
DTSTAMP:20260423T065605
CREATED:20260206T190033Z
LAST-MODIFIED:20260414T182547Z
UID:10032148-1781193600-1781198100@sonomasplash.org
SUMMARY:SVHS Swim Practice Lanes 1-5
DESCRIPTION:
URL:https://sonomasplash.org/event/svhs-swim-practice-lanes-1-5/2026-06-11/
CATEGORIES:Competition Pool
ATTACH;FMTTYPE=image/png:https://sonomasplash.org/wp-content/uploads/2025/03/image005.png
END:VEVENT
BEGIN:VEVENT
DTSTART;TZID=America/Los_Angeles:20260615T160000
DTEND;TZID=America/Los_Angeles:20260615T171500
DTSTAMP:20260423T065605
CREATED:20260206T190033Z
LAST-MODIFIED:20260414T182547Z
UID:10032149-1781539200-1781543700@sonomasplash.org
SUMMARY:SVHS Swim Practice Lanes 1-5
DESCRIPTION:
URL:https://sonomasplash.org/event/svhs-swim-practice-lanes-1-5/2026-06-15/
CATEGORIES:Competition Pool
ATTACH;FMTTYPE=image/png:https://sonomasplash.org/wp-content/uploads/2025/03/image005.png
END:VEVENT
BEGIN:VEVENT
DTSTART;TZID=America/Los_Angeles:20260616T160000
DTEND;TZID=America/Los_Angeles:20260616T171500
DTSTAMP:20260423T065605
CREATED:20260206T190033Z
LAST-MODIFIED:20260414T182547Z
UID:10032150-1781625600-1781630100@sonomasplash.org
SUMMARY:SVHS Swim Practice Lanes 1-5
DESCRIPTION:
URL:https://sonomasplash.org/event/svhs-swim-practice-lanes-1-5/2026-06-16/
CATEGORIES:Competition Pool
ATTACH;FMTTYPE=image/png:https://sonomasplash.org/wp-content/uploads/2025/03/image005.png
END:VEVENT
BEGIN:VEVENT
DTSTART;TZID=America/Los_Angeles:20260618T160000
DTEND;TZID=America/Los_Angeles:20260618T171500
DTSTAMP:20260423T065605
CREATED:20260206T190033Z
LAST-MODIFIED:20260414T182547Z
UID:10032151-1781798400-1781802900@sonomasplash.org
SUMMARY:SVHS Swim Practice Lanes 1-5
DESCRIPTION:
URL:https://sonomasplash.org/event/svhs-swim-practice-lanes-1-5/2026-06-18/
CATEGORIES:Competition Pool
ATTACH;FMTTYPE=image/png:https://sonomasplash.org/wp-content/uploads/2025/03/image005.png
END:VEVENT
BEGIN:VEVENT
DTSTART;TZID=America/Los_Angeles:20260622T160000
DTEND;TZID=America/Los_Angeles:20260622T171500
DTSTAMP:20260423T065605
CREATED:20260206T190033Z
LAST-MODIFIED:20260414T182547Z
UID:10032152-1782144000-1782148500@sonomasplash.org
SUMMARY:SVHS Swim Practice Lanes 1-5
DESCRIPTION:
URL:https://sonomasplash.org/event/svhs-swim-practice-lanes-1-5/2026-06-22/
CATEGORIES:Competition Pool
ATTACH;FMTTYPE=image/png:https://sonomasplash.org/wp-content/uploads/2025/03/image005.png
END:VEVENT
BEGIN:VEVENT
DTSTART;TZID=America/Los_Angeles:20260623T160000
DTEND;TZID=America/Los_Angeles:20260623T171500
DTSTAMP:20260423T065605
CREATED:20260206T190033Z
LAST-MODIFIED:20260414T182547Z
UID:10032153-1782230400-1782234900@sonomasplash.org
SUMMARY:SVHS Swim Practice Lanes 1-5
DESCRIPTION:
URL:https://sonomasplash.org/event/svhs-swim-practice-lanes-1-5/2026-06-23/
CATEGORIES:Competition Pool
ATTACH;FMTTYPE=image/png:https://sonomasplash.org/wp-content/uploads/2025/03/image005.png
END:VEVENT
BEGIN:VEVENT
DTSTART;TZID=America/Los_Angeles:20260625T160000
DTEND;TZID=America/Los_Angeles:20260625T171500
DTSTAMP:20260423T065605
CREATED:20260206T190033Z
LAST-MODIFIED:20260414T182547Z
UID:10032154-1782403200-1782407700@sonomasplash.org
SUMMARY:SVHS Swim Practice Lanes 1-5
DESCRIPTION:
URL:https://sonomasplash.org/event/svhs-swim-practice-lanes-1-5/2026-06-25/
CATEGORIES:Competition Pool
ATTACH;FMTTYPE=image/png:https://sonomasplash.org/wp-content/uploads/2025/03/image005.png
END:VEVENT
BEGIN:VEVENT
DTSTART;TZID=America/Los_Angeles:20260629T160000
DTEND;TZID=America/Los_Angeles:20260629T171500
DTSTAMP:20260423T065605
CREATED:20260206T190033Z
LAST-MODIFIED:20260414T182547Z
UID:10032155-1782748800-1782753300@sonomasplash.org
SUMMARY:SVHS Swim Practice Lanes 1-5
DESCRIPTION:
URL:https://sonomasplash.org/event/svhs-swim-practice-lanes-1-5/2026-06-29/
CATEGORIES:Competition Pool
ATTACH;FMTTYPE=image/png:https://sonomasplash.org/wp-content/uploads/2025/03/image005.png
END:VEVENT
BEGIN:VEVENT
DTSTART;TZID=America/Los_Angeles:20260630T160000
DTEND;TZID=America/Los_Angeles:20260630T171500
DTSTAMP:20260423T065605
CREATED:20260206T190033Z
LAST-MODIFIED:20260414T182547Z
UID:10032156-1782835200-1782839700@sonomasplash.org
SUMMARY:SVHS Swim Practice Lanes 1-5
DESCRIPTION:
URL:https://sonomasplash.org/event/svhs-swim-practice-lanes-1-5/2026-06-30/
CATEGORIES:Competition Pool
ATTACH;FMTTYPE=image/png:https://sonomasplash.org/wp-content/uploads/2025/03/image005.png
END:VEVENT
END:VCALENDAR