BEGIN:VCALENDAR
VERSION:2.0
PRODID:-//Sonoma Splash - ECPv6.15.20//NONSGML v1.0//EN
CALSCALE:GREGORIAN
METHOD:PUBLISH
X-WR-CALNAME:Sonoma Splash
X-ORIGINAL-URL:https://sonomasplash.org
X-WR-CALDESC:Events for Sonoma Splash
REFRESH-INTERVAL;VALUE=DURATION:PT1H
X-Robots-Tag:noindex
X-PUBLISHED-TTL:PT1H
BEGIN:VTIMEZONE
TZID:America/Los_Angeles
BEGIN:DAYLIGHT
TZOFFSETFROM:-0800
TZOFFSETTO:-0700
TZNAME:PDT
DTSTART:20250309T100000
END:DAYLIGHT
BEGIN:STANDARD
TZOFFSETFROM:-0700
TZOFFSETTO:-0800
TZNAME:PST
DTSTART:20251102T090000
END:STANDARD
BEGIN:DAYLIGHT
TZOFFSETFROM:-0800
TZOFFSETTO:-0700
TZNAME:PDT
DTSTART:20260308T100000
END:DAYLIGHT
BEGIN:STANDARD
TZOFFSETFROM:-0700
TZOFFSETTO:-0800
TZNAME:PST
DTSTART:20261101T090000
END:STANDARD
BEGIN:DAYLIGHT
TZOFFSETFROM:-0800
TZOFFSETTO:-0700
TZNAME:PDT
DTSTART:20270314T100000
END:DAYLIGHT
BEGIN:STANDARD
TZOFFSETFROM:-0700
TZOFFSETTO:-0800
TZNAME:PST
DTSTART:20271107T090000
END:STANDARD
END:VTIMEZONE
BEGIN:VEVENT
DTSTART;TZID=America/Los_Angeles:20260423T160000
DTEND;TZID=America/Los_Angeles:20260423T171500
DTSTAMP:20260424T083835
CREATED:20260206T190033Z
LAST-MODIFIED:20260414T182547Z
UID:10032127-1776960000-1776964500@sonomasplash.org
SUMMARY:SVHS Swim Practice Lanes 1-5
DESCRIPTION:
URL:https://sonomasplash.org/event/svhs-swim-practice-lanes-1-5/2026-04-23/
CATEGORIES:Competition Pool
ATTACH;FMTTYPE=image/png:https://sonomasplash.org/wp-content/uploads/2025/03/image005.png
END:VEVENT
BEGIN:VEVENT
DTSTART;TZID=America/Los_Angeles:20260423T131500
DTEND;TZID=America/Los_Angeles:20260423T143000
DTSTAMP:20260424T083835
CREATED:20260402T190657Z
LAST-MODIFIED:20260402T190657Z
UID:10037290-1776950100-1776954600@sonomasplash.org
SUMMARY:Splash Lap Swimming Lanes 1-5 ONLY (Thursday PM)
DESCRIPTION:SVHS is running their PE Spring Swimming Unit and will be using the shallow end of the comp pool on Tuesdays\, Wednesdays and Thursdays at various times. Deep end lanes will be available for Splash patrons. \nTuesdays and Thursdays the deep end lanes will be reserved for masters swimming from 9-10am. \n  \n\n\nTuesdays\n9:45am – 12:45pm\n2:45am – 3:30pm\n\nWednesdays\n10:45am – 12:00pm\n1:00pm – 2:00pm\n\nThursday\n8:45am – 10:00am\n1:15pm – 2:30pm
URL:https://sonomasplash.org/event/splash-lap-swimming-lanes-1-5-only-thursday-pm/2026-04-23/
CATEGORIES:Competition Pool
END:VEVENT
BEGIN:VEVENT
DTSTART;TZID=America/Los_Angeles:20260423T123000
DTEND;TZID=America/Los_Angeles:20260423T143000
DTSTAMP:20260424T083835
CREATED:20260331T215222Z
LAST-MODIFIED:20260331T220122Z
UID:10037199-1776947400-1776954600@sonomasplash.org
SUMMARY:Warm Pool Closed - Second Grade Learn to Swim
DESCRIPTION:Warm Pool CLOSED for Second Grade Learn to Swim and Swim Lessons:\nMondays: 1230pm-230pm & 430pm-530pm\nTuesdays: 1230pm-230pm & 430pm-530pm\nWednesdays: 430pm-530pm\nThursdays: 1230pm-230pm & 430pm-6pm\nFridays: 1230pm-230pm
URL:https://sonomasplash.org/event/warm-pool-closed-second-grade-learn-to-swim/2026-04-23/
CATEGORIES:Warm Teaching Pool
ATTACH;FMTTYPE=image/jpeg:https://sonomasplash.org/wp-content/uploads/2025/04/PXL_20240511_195937649-1.jpg
END:VEVENT
BEGIN:VEVENT
DTSTART;TZID=America/Los_Angeles:20260423T113000
DTEND;TZID=America/Los_Angeles:20260423T123000
DTSTAMP:20260424T083835
CREATED:20251009T125356Z
LAST-MODIFIED:20251230T192853Z
UID:10030108-1776943800-1776947400@sonomasplash.org
SUMMARY:Ai Chi with Anastasia
DESCRIPTION:An aquatic exercise class using a series of slow graceful movements done with focused breath.
URL:https://sonomasplash.org/event/ai-chi-with-anastasia/2026-04-23/
CATEGORIES:Warm Teaching Pool
ATTACH;FMTTYPE=image/jpeg:https://sonomasplash.org/wp-content/uploads/2025/03/Sonomasplash-2197-scaled.jpg
END:VEVENT
BEGIN:VEVENT
DTSTART;TZID=America/Los_Angeles:20260423T090000
DTEND;TZID=America/Los_Angeles:20260423T100000
DTSTAMP:20260424T083835
CREATED:20260130T190706Z
LAST-MODIFIED:20260214T003150Z
UID:10036560-1776934800-1776938400@sonomasplash.org
SUMMARY:Masters Workout - Tues/Thurs
DESCRIPTION:Masters Swimming is for anyone who can swim! \n\na new swimmer just learning all the strokes\nan experienced competitive swimmer just getting back into the water after an injury\na triathlete looking for a group to train with\na swimmer looking to improve their fitness\nany swimmer looking to have fun and workout with a group.\n\nYou might feel like you need to swim on your own and “get into shape” before joining one of our workouts\, but YOU DON’T! We’re here to swim with you where you are…today! \nDo you want to take your lap swimming to the next level but not sure how a Masters Swimming workout goes? Check out our Masters 101 class!
URL:https://sonomasplash.org/event/masters-workout-tues-thurs/2026-04-23/
CATEGORIES:Competition Pool,Masters Workouts & Events
ATTACH;FMTTYPE=image/jpeg:https://sonomasplash.org/wp-content/uploads/2025/04/20250329-9N4A3384.jpg
END:VEVENT
BEGIN:VEVENT
DTSTART;TZID=America/Los_Angeles:20260423T084500
DTEND;TZID=America/Los_Angeles:20260423T100000
DTSTAMP:20260424T083835
CREATED:20260402T190303Z
LAST-MODIFIED:20260408T170542Z
UID:10037228-1776933900-1776938400@sonomasplash.org
SUMMARY:Splash Lap Swimming Lanes 1-5 ONLY (Thursday AM)
DESCRIPTION:SVHS is running their PE Spring Swimming Unit and will be using the shallow end of the comp pool on Tuesdays\, Wednesdays and Thursdays at various times. Deep end lanes will be available for Splash patrons. \nTuesdays and Thursdays the deep end lanes will be reserved for masters swimming from 9-10am. \n  \n\n\nTuesdays\n9:45am – 12:45pm\n2:45am – 3:30pm\n\nWednesdays\n10:45am – 12:00pm\n1:00pm – 2:00pm\n\nThursday\n8:45am – 10:00am\n1:15pm – 2:30pm
URL:https://sonomasplash.org/event/splash-lap-swimming-lanes-1-5-only-thursday-am/2026-04-23/
CATEGORIES:Competition Pool
END:VEVENT
BEGIN:VEVENT
DTSTART;TZID=America/Los_Angeles:20260423T073000
DTEND;TZID=America/Los_Angeles:20260423T083000
DTSTAMP:20260424T083835
CREATED:20251216T192542Z
LAST-MODIFIED:20260126T192846Z
UID:10031667-1776929400-1776933000@sonomasplash.org
SUMMARY:Deep Water Aerobics with Skye
DESCRIPTION:Deep water exercise has many benefits\, including improved cardiovascular health\, increased flexibility\, and reduced stress on joints.Using the resistance of water you can strengthen muscles without putting excessive strain on them! \nSkye’s Deep Water Aerobics class targets various muscle groups\, helping to improve your strength and endurance over time.\nThis class takes place in water with a depth of 7ft.
URL:https://sonomasplash.org/event/deep-water-aerobics-with-skye-2/2026-04-23/
CATEGORIES:Competition Pool
ATTACH;FMTTYPE=image/jpeg:https://sonomasplash.org/wp-content/uploads/2025/03/IMG_20250303_1147422.jpg
END:VEVENT
BEGIN:VEVENT
DTSTART;TZID=America/Los_Angeles:20260422T173000
DTEND;TZID=America/Los_Angeles:20260422T183000
DTSTAMP:20260424T083835
CREATED:20260102T071139Z
LAST-MODIFIED:20260126T191809Z
UID:10031405-1776879000-1776882600@sonomasplash.org
SUMMARY:Aqua Aerobics with Anita
DESCRIPTION:
URL:https://sonomasplash.org/event/aqua-aerobics-with-anita-2/2026-04-22/
CATEGORIES:Warm Teaching Pool
ATTACH;FMTTYPE=image/png:https://sonomasplash.org/wp-content/uploads/2025/07/Screenshot_20250715-1249112.png
END:VEVENT
BEGIN:VEVENT
DTSTART;TZID=America/Los_Angeles:20260422T170000
DTEND;TZID=America/Los_Angeles:20260422T180000
DTSTAMP:20260424T083835
CREATED:20260213T193516Z
LAST-MODIFIED:20260213T193834Z
UID:10036285-1776877200-1776880800@sonomasplash.org
SUMMARY:Warm Pool Closed
DESCRIPTION:Warm Pool being used for Splash Programming (lessons\, classes\, etc.)
URL:https://sonomasplash.org/event/warm-pool-closed-4/2026-04-22/
CATEGORIES:Warm Teaching Pool
END:VEVENT
BEGIN:VEVENT
DTSTART;TZID=America/Los_Angeles:20260422T163000
DTEND;TZID=America/Los_Angeles:20260422T173000
DTSTAMP:20260424T083835
CREATED:20260331T215636Z
LAST-MODIFIED:20260331T215636Z
UID:10037218-1776875400-1776879000@sonomasplash.org
SUMMARY:Warm Pool Closed - Swim Lessons
DESCRIPTION:Warm Pool CLOSED for Second Grade Learn to Swim and Swim Lessons:\nMondays: 1230pm-230pm & 430pm-530pm\nTuesdays: 1230pm-230pm & 430pm-530pm\nWednesdays: 430pm-530pm\nThursdays: 1230pm-230pm & 430pm-6pm\nFridays: 1230pm-230pm
URL:https://sonomasplash.org/event/warm-pool-closed-swim-lessons/2026-04-22/
CATEGORIES:Warm Teaching Pool
ATTACH;FMTTYPE=image/jpeg:https://sonomasplash.org/wp-content/uploads/2025/04/PXL_20230315_202101976.jpg
END:VEVENT
BEGIN:VEVENT
DTSTART;TZID=America/Los_Angeles:20260422T143000
DTEND;TZID=America/Los_Angeles:20260422T181500
DTSTAMP:20260424T083835
CREATED:20260206T202848Z
LAST-MODIFIED:20260224T185734Z
UID:10032312-1776868200-1776881700@sonomasplash.org
SUMMARY:SVHS Swimming Home Meet
DESCRIPTION:Competition Pool closed to Splash Programming and Lap Swim. \nComp Pool will reopen at the conclusion of the swim meet\, approximately 6:15pm.
URL:https://sonomasplash.org/event/svhs-swimming-home-meet/2026-04-22/
CATEGORIES:Competition Pool
ATTACH;FMTTYPE=image/png:https://sonomasplash.org/wp-content/uploads/2025/03/image005.png
END:VEVENT
BEGIN:VEVENT
DTSTART;TZID=America/Los_Angeles:20260422T130000
DTEND;TZID=America/Los_Angeles:20260422T140000
DTSTAMP:20260424T083835
CREATED:20260402T190935Z
LAST-MODIFIED:20260402T190935Z
UID:10037300-1776862800-1776866400@sonomasplash.org
SUMMARY:Splash Lap Swimming Lanes 1-5 ONLY (Wednesday PM)
DESCRIPTION:SVHS is running their PE Spring Swimming Unit and will be using the shallow end of the comp pool on Tuesdays\, Wednesdays and Thursdays at various times. Deep end lanes will be available for Splash patrons. \nTuesdays and Thursdays the deep end lanes will be reserved for masters swimming from 9-10am. \n  \n\n\nTuesdays\n9:45am – 12:45pm\n2:45am – 3:30pm\n\nWednesdays\n10:45am – 12:00pm\n1:00pm – 2:00pm\n\nThursday\n8:45am – 10:00am\n1:15pm – 2:30pm
URL:https://sonomasplash.org/event/splash-lap-swimming-lanes-1-5-only-wednesday-pm/2026-04-22/
CATEGORIES:Competition Pool
END:VEVENT
BEGIN:VEVENT
DTSTART;TZID=America/Los_Angeles:20260422T113000
DTEND;TZID=America/Los_Angeles:20260422T123000
DTSTAMP:20260424T083835
CREATED:20250325T205222Z
LAST-MODIFIED:20251230T200406Z
UID:10031150-1776857400-1776861000@sonomasplash.org
SUMMARY:Water Yoga with Kymry
DESCRIPTION:
URL:https://sonomasplash.org/event/water-yoga-with-kymry/2026-04-22/
CATEGORIES:Warm Teaching Pool
ATTACH;FMTTYPE=image/png:https://sonomasplash.org/wp-content/uploads/2025/03/Splash-Photo.png
END:VEVENT
BEGIN:VEVENT
DTSTART;TZID=America/Los_Angeles:20260422T104500
DTEND;TZID=America/Los_Angeles:20260422T120000
DTSTAMP:20260424T083835
CREATED:20260402T191343Z
LAST-MODIFIED:20260408T170607Z
UID:10037310-1776854700-1776859200@sonomasplash.org
SUMMARY:Splash Lap Swimming Lanes 1-5 ONLY (Wednesday AM)
DESCRIPTION:SVHS is running their PE Spring Swimming Unit and will be using the shallow end of the comp pool on Tuesdays\, Wednesdays and Thursdays at various times. Deep end lanes will be available for Splash patrons. \nTuesdays and Thursdays the deep end lanes will be reserved for masters swimming from 9-10am. \n  \n\n\nTuesdays\n9:45am – 12:45pm\n2:45am – 3:30pm\n\nWednesdays\n10:45am – 12:00pm\n1:00pm – 2:00pm\n\nThursday\n8:45am – 10:00am\n1:15pm – 2:30pm
URL:https://sonomasplash.org/event/splash-lap-swimming-lanes-1-5-only-wednesday-am/2026-04-22/
CATEGORIES:Competition Pool
END:VEVENT
BEGIN:VEVENT
DTSTART;TZID=America/Los_Angeles:20260422T073000
DTEND;TZID=America/Los_Angeles:20260422T083000
DTSTAMP:20260424T083835
CREATED:20260101T191140Z
LAST-MODIFIED:20260126T192525Z
UID:10031550-1776843000-1776846600@sonomasplash.org
SUMMARY:Aqua Aerobics with Anita
DESCRIPTION:
URL:https://sonomasplash.org/event/aqua-aerobics-with-anita-2-2/2026-04-22/
CATEGORIES:Competition Pool
ATTACH;FMTTYPE=image/png:https://sonomasplash.org/wp-content/uploads/2025/07/Screenshot_20250715-1249112.png
END:VEVENT
BEGIN:VEVENT
DTSTART;TZID=America/Los_Angeles:20260422T070000
DTEND;TZID=America/Los_Angeles:20260422T080000
DTSTAMP:20260424T083835
CREATED:20260130T182751Z
LAST-MODIFIED:20260219T204946Z
UID:10031860-1776841200-1776844800@sonomasplash.org
SUMMARY:Masters Workout - Mon/Wed/Fri
DESCRIPTION:Masters Swimming is for anyone who can swim! \n\na new swimmer just learning all the strokes\nan experienced competitive swimmer just getting back into the water after an injury\na triathlete looking for a group to train with\na swimmer looking to improve their fitness\nany swimmer looking to have fun and workout with a group.\n\nYou might feel like you need to swim on your own and “get into shape” before joining one of our workouts\, but YOU DON’T! We’re here to swim with you where you are…today! \nDo you want to take your lap swimming to the next level but not sure how a Masters Swimming workout goes? Check out our Masters 101 class!
URL:https://sonomasplash.org/event/masters-workout-4-2/2026-04-22/
CATEGORIES:Competition Pool,Masters Workouts & Events
ATTACH;FMTTYPE=image/jpeg:https://sonomasplash.org/wp-content/uploads/2025/03/9N4A0186-scaled-e1741641631345.jpg
END:VEVENT
BEGIN:VEVENT
DTSTART;TZID=America/Los_Angeles:20260421T163000
DTEND;TZID=America/Los_Angeles:20260421T180000
DTSTAMP:20260424T083835
CREATED:20260213T193349Z
LAST-MODIFIED:20260213T193903Z
UID:10035250-1776789000-1776794400@sonomasplash.org
SUMMARY:Warm Pool Closed
DESCRIPTION:Warm Pool being used for Splash Programming (lessons\, classes\, etc.)
URL:https://sonomasplash.org/event/warm-pool-closed-3/2026-04-21/
CATEGORIES:Warm Teaching Pool
END:VEVENT
BEGIN:VEVENT
DTSTART;TZID=America/Los_Angeles:20260421T163000
DTEND;TZID=America/Los_Angeles:20260421T173000
DTSTAMP:20260424T083835
CREATED:20260331T215636Z
LAST-MODIFIED:20260331T215636Z
UID:10037217-1776789000-1776792600@sonomasplash.org
SUMMARY:Warm Pool Closed - Swim Lessons
DESCRIPTION:Warm Pool CLOSED for Second Grade Learn to Swim and Swim Lessons:\nMondays: 1230pm-230pm & 430pm-530pm\nTuesdays: 1230pm-230pm & 430pm-530pm\nWednesdays: 430pm-530pm\nThursdays: 1230pm-230pm & 430pm-6pm\nFridays: 1230pm-230pm
URL:https://sonomasplash.org/event/warm-pool-closed-swim-lessons/2026-04-21/
CATEGORIES:Warm Teaching Pool
ATTACH;FMTTYPE=image/jpeg:https://sonomasplash.org/wp-content/uploads/2025/04/PXL_20230315_202101976.jpg
END:VEVENT
BEGIN:VEVENT
DTSTART;TZID=America/Los_Angeles:20260421T163000
DTEND;TZID=America/Los_Angeles:20260421T173000
DTSTAMP:20260424T083835
CREATED:20260209T203340Z
LAST-MODIFIED:20260224T185201Z
UID:10032351-1776789000-1776792600@sonomasplash.org
SUMMARY:Competition Pool Closed 4:30-5:30pm
DESCRIPTION:
URL:https://sonomasplash.org/event/competition-pool-closed-430-530pm/2026-04-21/
CATEGORIES:Competition Pool
ATTACH;FMTTYPE=image/jpeg:https://sonomasplash.org/wp-content/uploads/2025/04/SnapShotdfsdfsdf.jpg
END:VEVENT
BEGIN:VEVENT
DTSTART;TZID=America/Los_Angeles:20260421T160000
DTEND;TZID=America/Los_Angeles:20260421T171500
DTSTAMP:20260424T083835
CREATED:20260206T190033Z
LAST-MODIFIED:20260414T182547Z
UID:10032126-1776787200-1776791700@sonomasplash.org
SUMMARY:SVHS Swim Practice Lanes 1-5
DESCRIPTION:
URL:https://sonomasplash.org/event/svhs-swim-practice-lanes-1-5/2026-04-21/
CATEGORIES:Competition Pool
ATTACH;FMTTYPE=image/png:https://sonomasplash.org/wp-content/uploads/2025/03/image005.png
END:VEVENT
BEGIN:VEVENT
DTSTART;TZID=America/Los_Angeles:20260421T144500
DTEND;TZID=America/Los_Angeles:20260421T153000
DTSTAMP:20260424T083835
CREATED:20260402T191731Z
LAST-MODIFIED:20260402T191731Z
UID:10037319-1776782700-1776785400@sonomasplash.org
SUMMARY:Splash Lap Swimming Lanes 1-5 ONLY (Tuesday PM)
DESCRIPTION:SVHS is running their PE Spring Swimming Unit and will be using the shallow end of the comp pool on Tuesdays\, Wednesdays and Thursdays at various times. Deep end lanes will be available for Splash patrons. \nTuesdays and Thursdays the deep end lanes will be reserved for masters swimming from 9-10am. \n  \n\n\nTuesdays\n9:45am – 12:45pm\n2:45am – 3:30pm\n\nWednesdays\n10:45am – 12:00pm\n1:00pm – 2:00pm\n\nThursday\n8:45am – 10:00am\n1:15pm – 2:30pm
URL:https://sonomasplash.org/event/splash-lap-swimming-lanes-1-5-only-tuesday-pm/2026-04-21/
CATEGORIES:Competition Pool
END:VEVENT
BEGIN:VEVENT
DTSTART;TZID=America/Los_Angeles:20260421T123000
DTEND;TZID=America/Los_Angeles:20260421T143000
DTSTAMP:20260424T083835
CREATED:20260331T215222Z
LAST-MODIFIED:20260331T220122Z
UID:10037198-1776774600-1776781800@sonomasplash.org
SUMMARY:Warm Pool Closed - Second Grade Learn to Swim
DESCRIPTION:Warm Pool CLOSED for Second Grade Learn to Swim and Swim Lessons:\nMondays: 1230pm-230pm & 430pm-530pm\nTuesdays: 1230pm-230pm & 430pm-530pm\nWednesdays: 430pm-530pm\nThursdays: 1230pm-230pm & 430pm-6pm\nFridays: 1230pm-230pm
URL:https://sonomasplash.org/event/warm-pool-closed-second-grade-learn-to-swim/2026-04-21/
CATEGORIES:Warm Teaching Pool
ATTACH;FMTTYPE=image/jpeg:https://sonomasplash.org/wp-content/uploads/2025/04/PXL_20240511_195937649-1.jpg
END:VEVENT
BEGIN:VEVENT
DTSTART;TZID=America/Los_Angeles:20260421T113000
DTEND;TZID=America/Los_Angeles:20260421T123000
DTSTAMP:20260424T083835
CREATED:20250327T215509Z
LAST-MODIFIED:20260126T191343Z
UID:10030473-1776771000-1776774600@sonomasplash.org
SUMMARY:AquaFit with Anastasia
DESCRIPTION:
URL:https://sonomasplash.org/event/aquafit-with-anastasia-2/2026-04-21/
CATEGORIES:Warm Teaching Pool
ATTACH;FMTTYPE=image/jpeg:https://sonomasplash.org/wp-content/uploads/2025/03/IMG_7826-scaled.jpg
END:VEVENT
BEGIN:VEVENT
DTSTART;TZID=America/Los_Angeles:20260421T094500
DTEND;TZID=America/Los_Angeles:20260421T124500
DTSTAMP:20260424T083835
CREATED:20260402T192026Z
LAST-MODIFIED:20260408T170511Z
UID:10037328-1776764700-1776775500@sonomasplash.org
SUMMARY:Splash Lap Swimming Lanes 1-5 ONLY (Tuesday AM)
DESCRIPTION:SVHS is running their PE Spring Swimming Unit and will be using the shallow end of the comp pool on Tuesdays\, Wednesdays and Thursdays at various times. Deep end lanes will be available for Splash patrons. \nTuesdays and Thursdays the deep end lanes will be reserved for masters swimming from 9-10am. \n  \n\n\nTuesdays\n9:45am – 12:45pm\n2:45am – 3:30pm\n\nWednesdays\n10:45am – 12:00pm\n1:00pm – 2:00pm\n\nThursday\n8:45am – 10:00am\n1:15pm – 2:30pm
URL:https://sonomasplash.org/event/splash-lap-swimming-lanes-1-5-only-tuesday-am/2026-04-21/
CATEGORIES:Competition Pool
END:VEVENT
BEGIN:VEVENT
DTSTART;TZID=America/Los_Angeles:20260421T090000
DTEND;TZID=America/Los_Angeles:20260421T100000
DTSTAMP:20260424T083835
CREATED:20260130T190706Z
LAST-MODIFIED:20260214T003150Z
UID:10036559-1776762000-1776765600@sonomasplash.org
SUMMARY:Masters Workout - Tues/Thurs
DESCRIPTION:Masters Swimming is for anyone who can swim! \n\na new swimmer just learning all the strokes\nan experienced competitive swimmer just getting back into the water after an injury\na triathlete looking for a group to train with\na swimmer looking to improve their fitness\nany swimmer looking to have fun and workout with a group.\n\nYou might feel like you need to swim on your own and “get into shape” before joining one of our workouts\, but YOU DON’T! We’re here to swim with you where you are…today! \nDo you want to take your lap swimming to the next level but not sure how a Masters Swimming workout goes? Check out our Masters 101 class!
URL:https://sonomasplash.org/event/masters-workout-tues-thurs/2026-04-21/
CATEGORIES:Competition Pool,Masters Workouts & Events
ATTACH;FMTTYPE=image/jpeg:https://sonomasplash.org/wp-content/uploads/2025/04/20250329-9N4A3384.jpg
END:VEVENT
BEGIN:VEVENT
DTSTART;TZID=America/Los_Angeles:20260421T073000
DTEND;TZID=America/Los_Angeles:20260421T083000
DTSTAMP:20260424T083835
CREATED:20251216T192542Z
LAST-MODIFIED:20260126T192846Z
UID:10031666-1776756600-1776760200@sonomasplash.org
SUMMARY:Deep Water Aerobics with Skye
DESCRIPTION:Deep water exercise has many benefits\, including improved cardiovascular health\, increased flexibility\, and reduced stress on joints.Using the resistance of water you can strengthen muscles without putting excessive strain on them! \nSkye’s Deep Water Aerobics class targets various muscle groups\, helping to improve your strength and endurance over time.\nThis class takes place in water with a depth of 7ft.
URL:https://sonomasplash.org/event/deep-water-aerobics-with-skye-2/2026-04-21/
CATEGORIES:Competition Pool
ATTACH;FMTTYPE=image/jpeg:https://sonomasplash.org/wp-content/uploads/2025/03/IMG_20250303_1147422.jpg
END:VEVENT
BEGIN:VEVENT
DTSTART;TZID=America/Los_Angeles:20260420T173000
DTEND;TZID=America/Los_Angeles:20260420T183000
DTSTAMP:20260424T083835
CREATED:20260102T071139Z
LAST-MODIFIED:20260126T191809Z
UID:10031404-1776706200-1776709800@sonomasplash.org
SUMMARY:Aqua Aerobics with Anita
DESCRIPTION:
URL:https://sonomasplash.org/event/aqua-aerobics-with-anita-2/2026-04-20/
CATEGORIES:Warm Teaching Pool
ATTACH;FMTTYPE=image/png:https://sonomasplash.org/wp-content/uploads/2025/07/Screenshot_20250715-1249112.png
END:VEVENT
BEGIN:VEVENT
DTSTART;TZID=America/Los_Angeles:20260420T170000
DTEND;TZID=America/Los_Angeles:20260420T173000
DTSTAMP:20260424T083835
CREATED:20260212T220735Z
LAST-MODIFIED:20260213T193936Z
UID:10034718-1776704400-1776706200@sonomasplash.org
SUMMARY:Warm Pool Closed
DESCRIPTION:Warm Pool being used for Splash Programming (lessons\, classes\, etc.)
URL:https://sonomasplash.org/event/warm-pool-closed-2/2026-04-20/
CATEGORIES:Warm Teaching Pool
END:VEVENT
BEGIN:VEVENT
DTSTART;TZID=America/Los_Angeles:20260420T163000
DTEND;TZID=America/Los_Angeles:20260420T173000
DTSTAMP:20260424T083835
CREATED:20260331T215636Z
LAST-MODIFIED:20260331T215636Z
UID:10037216-1776702600-1776706200@sonomasplash.org
SUMMARY:Warm Pool Closed - Swim Lessons
DESCRIPTION:Warm Pool CLOSED for Second Grade Learn to Swim and Swim Lessons:\nMondays: 1230pm-230pm & 430pm-530pm\nTuesdays: 1230pm-230pm & 430pm-530pm\nWednesdays: 430pm-530pm\nThursdays: 1230pm-230pm & 430pm-6pm\nFridays: 1230pm-230pm
URL:https://sonomasplash.org/event/warm-pool-closed-swim-lessons/2026-04-20/
CATEGORIES:Warm Teaching Pool
ATTACH;FMTTYPE=image/jpeg:https://sonomasplash.org/wp-content/uploads/2025/04/PXL_20230315_202101976.jpg
END:VEVENT
BEGIN:VEVENT
DTSTART;TZID=America/Los_Angeles:20260420T160000
DTEND;TZID=America/Los_Angeles:20260420T171500
DTSTAMP:20260424T083835
CREATED:20260206T190033Z
LAST-MODIFIED:20260414T182547Z
UID:10032125-1776700800-1776705300@sonomasplash.org
SUMMARY:SVHS Swim Practice Lanes 1-5
DESCRIPTION:
URL:https://sonomasplash.org/event/svhs-swim-practice-lanes-1-5/2026-04-20/
CATEGORIES:Competition Pool
ATTACH;FMTTYPE=image/png:https://sonomasplash.org/wp-content/uploads/2025/03/image005.png
END:VEVENT
END:VCALENDAR