BEGIN:VCALENDAR
VERSION:2.0
PRODID:-//Sonoma Splash - ECPv6.15.20//NONSGML v1.0//EN
CALSCALE:GREGORIAN
METHOD:PUBLISH
X-ORIGINAL-URL:https://sonomasplash.org
X-WR-CALDESC:Events for Sonoma Splash
REFRESH-INTERVAL;VALUE=DURATION:PT1H
X-Robots-Tag:noindex
X-PUBLISHED-TTL:PT1H
BEGIN:VTIMEZONE
TZID:America/Los_Angeles
BEGIN:DAYLIGHT
TZOFFSETFROM:-0800
TZOFFSETTO:-0700
TZNAME:PDT
DTSTART:20250309T100000
END:DAYLIGHT
BEGIN:STANDARD
TZOFFSETFROM:-0700
TZOFFSETTO:-0800
TZNAME:PST
DTSTART:20251102T090000
END:STANDARD
BEGIN:DAYLIGHT
TZOFFSETFROM:-0800
TZOFFSETTO:-0700
TZNAME:PDT
DTSTART:20260308T100000
END:DAYLIGHT
BEGIN:STANDARD
TZOFFSETFROM:-0700
TZOFFSETTO:-0800
TZNAME:PST
DTSTART:20261101T090000
END:STANDARD
BEGIN:DAYLIGHT
TZOFFSETFROM:-0800
TZOFFSETTO:-0700
TZNAME:PDT
DTSTART:20270314T100000
END:DAYLIGHT
BEGIN:STANDARD
TZOFFSETFROM:-0700
TZOFFSETTO:-0800
TZNAME:PST
DTSTART:20271107T090000
END:STANDARD
END:VTIMEZONE
BEGIN:VEVENT
DTSTART;TZID=America/Los_Angeles:20260402T073000
DTEND;TZID=America/Los_Angeles:20260402T083000
DTSTAMP:20260420T065630
CREATED:20251216T192542Z
LAST-MODIFIED:20260126T192846Z
UID:10031658-1775115000-1775118600@sonomasplash.org
SUMMARY:Deep Water Aerobics with Skye
DESCRIPTION:Deep water exercise has many benefits\, including improved cardiovascular health\, increased flexibility\, and reduced stress on joints.Using the resistance of water you can strengthen muscles without putting excessive strain on them! \nSkye’s Deep Water Aerobics class targets various muscle groups\, helping to improve your strength and endurance over time.\nThis class takes place in water with a depth of 7ft.
URL:https://sonomasplash.org/event/deep-water-aerobics-with-skye-2/2026-04-02/
CATEGORIES:Competition Pool
ATTACH;FMTTYPE=image/jpeg:https://sonomasplash.org/wp-content/uploads/2025/03/IMG_20250303_1147422.jpg
END:VEVENT
BEGIN:VEVENT
DTSTART;TZID=America/Los_Angeles:20260402T084500
DTEND;TZID=America/Los_Angeles:20260402T100000
DTSTAMP:20260420T065630
CREATED:20260402T190303Z
LAST-MODIFIED:20260408T170542Z
UID:10037225-1775119500-1775124000@sonomasplash.org
SUMMARY:Splash Lap Swimming Lanes 1-5 ONLY (Thursday AM)
DESCRIPTION:SVHS is running their PE Spring Swimming Unit and will be using the shallow end of the comp pool on Tuesdays\, Wednesdays and Thursdays at various times. Deep end lanes will be available for Splash patrons. \nTuesdays and Thursdays the deep end lanes will be reserved for masters swimming from 9-10am. \n  \n\n\nTuesdays\n9:45am – 12:45pm\n2:45am – 3:30pm\n\nWednesdays\n10:45am – 12:00pm\n1:00pm – 2:00pm\n\nThursday\n8:45am – 10:00am\n1:15pm – 2:30pm
URL:https://sonomasplash.org/event/splash-lap-swimming-lanes-1-5-only-thursday-am/2026-04-02/
CATEGORIES:Competition Pool
END:VEVENT
BEGIN:VEVENT
DTSTART;TZID=America/Los_Angeles:20260402T090000
DTEND;TZID=America/Los_Angeles:20260402T100000
DTSTAMP:20260420T065630
CREATED:20260130T190706Z
LAST-MODIFIED:20260214T003150Z
UID:10036554-1775120400-1775124000@sonomasplash.org
SUMMARY:Masters Workout - Tues/Thurs
DESCRIPTION:Masters Swimming is for anyone who can swim! \n\na new swimmer just learning all the strokes\nan experienced competitive swimmer just getting back into the water after an injury\na triathlete looking for a group to train with\na swimmer looking to improve their fitness\nany swimmer looking to have fun and workout with a group.\n\nYou might feel like you need to swim on your own and “get into shape” before joining one of our workouts\, but YOU DON’T! We’re here to swim with you where you are…today! \nDo you want to take your lap swimming to the next level but not sure how a Masters Swimming workout goes? Check out our Masters 101 class!
URL:https://sonomasplash.org/event/masters-workout-tues-thurs/2026-04-02/
CATEGORIES:Competition Pool,Masters Workouts & Events
ATTACH;FMTTYPE=image/jpeg:https://sonomasplash.org/wp-content/uploads/2025/04/20250329-9N4A3384.jpg
END:VEVENT
BEGIN:VEVENT
DTSTART;TZID=America/Los_Angeles:20260402T113000
DTEND;TZID=America/Los_Angeles:20260402T123000
DTSTAMP:20260420T065630
CREATED:20251009T125356Z
LAST-MODIFIED:20251230T192853Z
UID:10030105-1775129400-1775133000@sonomasplash.org
SUMMARY:Ai Chi with Anastasia
DESCRIPTION:An aquatic exercise class using a series of slow graceful movements done with focused breath.
URL:https://sonomasplash.org/event/ai-chi-with-anastasia/2026-04-02/
CATEGORIES:Warm Teaching Pool
ATTACH;FMTTYPE=image/jpeg:https://sonomasplash.org/wp-content/uploads/2025/03/Sonomasplash-2197-scaled.jpg
END:VEVENT
BEGIN:VEVENT
DTSTART;TZID=America/Los_Angeles:20260402T131500
DTEND;TZID=America/Los_Angeles:20260402T143000
DTSTAMP:20260420T065630
CREATED:20260402T190657Z
LAST-MODIFIED:20260402T190657Z
UID:10037287-1775135700-1775140200@sonomasplash.org
SUMMARY:Splash Lap Swimming Lanes 1-5 ONLY (Thursday PM)
DESCRIPTION:SVHS is running their PE Spring Swimming Unit and will be using the shallow end of the comp pool on Tuesdays\, Wednesdays and Thursdays at various times. Deep end lanes will be available for Splash patrons. \nTuesdays and Thursdays the deep end lanes will be reserved for masters swimming from 9-10am. \n  \n\n\nTuesdays\n9:45am – 12:45pm\n2:45am – 3:30pm\n\nWednesdays\n10:45am – 12:00pm\n1:00pm – 2:00pm\n\nThursday\n8:45am – 10:00am\n1:15pm – 2:30pm
URL:https://sonomasplash.org/event/splash-lap-swimming-lanes-1-5-only-thursday-pm/2026-04-02/
CATEGORIES:Competition Pool
END:VEVENT
BEGIN:VEVENT
DTSTART;TZID=America/Los_Angeles:20260402T160000
DTEND;TZID=America/Los_Angeles:20260402T171500
DTSTAMP:20260420T065630
CREATED:20260206T190033Z
LAST-MODIFIED:20260414T182547Z
UID:10032118-1775145600-1775150100@sonomasplash.org
SUMMARY:SVHS Swim Practice Lanes 1-5
DESCRIPTION:
URL:https://sonomasplash.org/event/svhs-swim-practice-lanes-1-5/2026-04-02/
CATEGORIES:Competition Pool
ATTACH;FMTTYPE=image/png:https://sonomasplash.org/wp-content/uploads/2025/03/image005.png
END:VEVENT
BEGIN:VEVENT
DTSTART;TZID=America/Los_Angeles:20260402T163000
DTEND;TZID=America/Los_Angeles:20260402T173000
DTSTAMP:20260420T065630
CREATED:20260209T203340Z
LAST-MODIFIED:20260224T185201Z
UID:10032342-1775147400-1775151000@sonomasplash.org
SUMMARY:Competition Pool Closed 4:30-5:30pm
DESCRIPTION:
URL:https://sonomasplash.org/event/competition-pool-closed-430-530pm/2026-04-02/
CATEGORIES:Competition Pool
ATTACH;FMTTYPE=image/jpeg:https://sonomasplash.org/wp-content/uploads/2025/04/SnapShotdfsdfsdf.jpg
END:VEVENT
BEGIN:VEVENT
DTSTART;TZID=America/Los_Angeles:20260402T163000
DTEND;TZID=America/Los_Angeles:20260402T180000
DTSTAMP:20260420T065630
CREATED:20260213T193349Z
LAST-MODIFIED:20260213T193903Z
UID:10035245-1775147400-1775152800@sonomasplash.org
SUMMARY:Warm Pool Closed
DESCRIPTION:Warm Pool being used for Splash Programming (lessons\, classes\, etc.)
URL:https://sonomasplash.org/event/warm-pool-closed-3/2026-04-02/
CATEGORIES:Warm Teaching Pool
END:VEVENT
BEGIN:VEVENT
DTSTART;TZID=America/Los_Angeles:20260402T163000
DTEND;TZID=America/Los_Angeles:20260402T180000
DTSTAMP:20260420T065630
CREATED:20260331T215636Z
LAST-MODIFIED:20260331T215636Z
UID:10037207-1775147400-1775152800@sonomasplash.org
SUMMARY:Warm Pool Closed - Swim Lessons
DESCRIPTION:Warm Pool CLOSED for Second Grade Learn to Swim and Swim Lessons:\nMondays: 1230pm-230pm & 430pm-530pm\nTuesdays: 1230pm-230pm & 430pm-530pm\nWednesdays: 430pm-530pm\nThursdays: 1230pm-230pm & 430pm-6pm\nFridays: 1230pm-230pm
URL:https://sonomasplash.org/event/warm-pool-closed-swim-lessons/2026-04-02/
CATEGORIES:Warm Teaching Pool
ATTACH;FMTTYPE=image/jpeg:https://sonomasplash.org/wp-content/uploads/2025/04/PXL_20230315_202101976.jpg
END:VEVENT
BEGIN:VEVENT
DTSTART;TZID=America/Los_Angeles:20260402T173000
DTEND;TZID=America/Los_Angeles:20260402T183000
DTSTAMP:20260420T065630
CREATED:20260102T071139Z
LAST-MODIFIED:20260126T191809Z
UID:10031397-1775151000-1775154600@sonomasplash.org
SUMMARY:Aqua Aerobics with Anita
DESCRIPTION:
URL:https://sonomasplash.org/event/aqua-aerobics-with-anita-2/2026-04-02/
CATEGORIES:Warm Teaching Pool
ATTACH;FMTTYPE=image/png:https://sonomasplash.org/wp-content/uploads/2025/07/Screenshot_20250715-1249112.png
END:VEVENT
END:VCALENDAR